{"text_format":"3","workbook":"xlsx","n_sheets":1,"sheets":["Sheet1"],"not_rendered":{"external_links":1,"defined_names":1},"read":"whole","date_system":"1900"}

{"sheet":"Sheet1","index":0,"n_rows":251,"n_cols":8,"rows_kept":251}
["序号","学号","姓名","性别","就读专业","二级学院","是否专业排名前40%","学籍类别"]
[1,"2023102040552","郭鑫","男","云计算技术应用","新华三银河ICT产业学院","是",{"$f":"VLOOKUP(B2,[1]统招2022级!$B$1:$V$626,21,0)","v":"统招2023级"}]
[2,"2023102040218","王子煦","女","云计算技术应用","新华三银河ICT产业学院","是",{"$f":"VLOOKUP(B3,[1]统招2022级!$B$1:$V$626,21,0)","v":"统招2023级"}]
[3,"2023102040323","杨荣","女","云计算技术应用","新华三银河ICT产业学院","是",{"$f":"VLOOKUP(B4,[1]统招2022级!$B$1:$V$626,21,0)","v":"统招2023级"}]
[4,"2023102040247","陈婧","女","云计算技术应用","新华三银河ICT产业学院","是",{"$f":"VLOOKUP(B5,[1]统招2022级!$B$1:$V$626,21,0)","v":"统招2023级"}]
[5,"2023102040339","罗政","男","云计算技术应用","新华三银河ICT产业学院","是",{"$f":"VLOOKUP(B6,[1]统招2022级!$B$1:$V$626,21,0)","v":"统招2023级"}]
[6,"2023102040501","缪文军","男","云计算技术应用","新华三银河ICT产业学院","是",{"$f":"VLOOKUP(B7,[1]统招2022级!$B$1:$V$626,21,0)","v":"统招2023级"}]
[7,"2023102040301","向云烽","男","云计算技术应用","新华三银河ICT产业学院","是",{"$f":"VLOOKUP(B8,[1]统招2022级!$B$1:$V$626,21,0)","v":"统招2023级"}]
[8,"2023102040549","张家豪","男","云计算技术应用","新华三银河ICT产业学院","是",{"$f":"VLOOKUP(B9,[1]统招2022级!$B$1:$V$626,21,0)","v":"统招2023级"}]
[9,"2023102040252","陈金兰","女","云计算技术应用","新华三银河ICT产业学院","是",{"$f":"VLOOKUP(B10,[1]统招2022级!$B$1:$V$626,21,0)","v":"统招2023级"}]
[10,"2023102040210","张秋悦","女","云计算技术应用","新华三银河ICT产业学院","是",{"$f":"VLOOKUP(B11,[1]统招2022级!$B$1:$V$626,21,0)","v":"统招2023级"}]
[11,"2023102040118","唐礼滨","男","云计算技术应用","新华三银河ICT产业学院","是",{"$f":"VLOOKUP(B12,[1]统招2022级!$B$1:$V$626,21,0)","v":"统招2023级"}]
[12,"2023102040225","何嘉豪","男","云计算技术应用","新华三银河ICT产业学院","是",{"$f":"VLOOKUP(B13,[1]统招2022级!$B$1:$V$626,21,0)","v":"统招2023级"}]
[13,"2023102040322","吴文昊","男","云计算技术应用","新华三银河ICT产业学院","是",{"$f":"VLOOKUP(B14,[1]统招2022级!$B$1:$V$626,21,0)","v":"统招2023级"}]
[14,"2023102040233","杨金武","男","云计算技术应用","新华三银河ICT产业学院","是",{"$f":"VLOOKUP(B15,[1]统招2022级!$B$1:$V$626,21,0)","v":"统招2023级"}]
[15,"2023102040304","张双","男","云计算技术应用","新华三银河ICT产业学院","是",{"$f":"VLOOKUP(B16,[1]统招2022级!$B$1:$V$626,21,0)","v":"统招2023级"}]
[16,"2023102040349","杨聆","女","云计算技术应用","新华三银河ICT产业学院","是",{"$f":"VLOOKUP(B17,[1]统招2022级!$B$1:$V$626,21,0)","v":"统招2023级"}]
[17,"2023102040245","甘海川","男","云计算技术应用","新华三银河ICT产业学院","是",{"$f":"VLOOKUP(B18,[1]统招2022级!$B$1:$V$626,21,0)","v":"统招2023级"}]
[18,"2023102040443","刘鸣","男","云计算技术应用","新华三银河ICT产业学院","是",{"$f":"VLOOKUP(B19,[1]统招2022级!$B$1:$V$626,21,0)","v":"统招2023级"}]
[19,"2023102040112","李思垚","女","云计算技术应用","新华三银河ICT产业学院","是",{"$f":"VLOOKUP(B20,[1]统招2022级!$B$1:$V$626,21,0)","v":"统招2023级"}]
[20,"2023102040558","杨垚鑫","男","云计算技术应用","新华三银河ICT产业学院","是",{"$f":"VLOOKUP(B21,[1]统招2022级!$B$1:$V$626,21,0)","v":"统招2023级"}]
[21,"2023102040512","田文杰","男","云计算技术应用","新华三银河ICT产业学院","是",{"$f":"VLOOKUP(B22,[1]统招2022级!$B$1:$V$626,21,0)","v":"统招2023级"}]
[22,"2023102040213","高得胜","男","云计算技术应用","新华三银河ICT产业学院","是",{"$f":"VLOOKUP(B23,[1]统招2022级!$B$1:$V$626,21,0)","v":"统招2023级"}]
[23,"2023102040216","许泽伟","男","云计算技术应用","新华三银河ICT产业学院","是",{"$f":"VLOOKUP(B24,[1]统招2022级!$B$1:$V$626,21,0)","v":"统招2023级"}]
[24,"2023102040507","唐冬梅","女","云计算技术应用","新华三银河ICT产业学院","是",{"$f":"VLOOKUP(B25,[1]统招2022级!$B$1:$V$626,21,0)","v":"统招2023级"}]
[25,"2023102040427","卓依琳","女","云计算技术应用","新华三银河ICT产业学院","是",{"$f":"VLOOKUP(B26,[1]统招2022级!$B$1:$V$626,21,0)","v":"统招2023级"}]
[26,"2023102040350","付芊芊","女","云计算技术应用","新华三银河ICT产业学院","是",{"$f":"VLOOKUP(B27,[1]统招2022级!$B$1:$V$626,21,0)","v":"统招2023级"}]
[27,"2023102040327","陈辉","男","云计算技术应用","新华三银河ICT产业学院","是",{"$f":"VLOOKUP(B28,[1]统招2022级!$B$1:$V$626,21,0)","v":"统招2023级"}]
[28,"2023102040522","刘梦成","男","云计算技术应用","新华三银河ICT产业学院","是",{"$f":"VLOOKUP(B29,[1]统招2022级!$B$1:$V$626,21,0)","v":"统招2023级"}]
[29,"2023102040541","姚烨","男","云计算技术应用","新华三银河ICT产业学院","是",{"$f":"VLOOKUP(B30,[1]统招2022级!$B$1:$V$626,21,0)","v":"统招2023级"}]
[30,"2023102040202","李雨菲","女","云计算技术应用","新华三银河ICT产业学院","是",{"$f":"VLOOKUP(B31,[1]统招2022级!$B$1:$V$626,21,0)","v":"统招2023级"}]
[31,"2023102040217","穆军霆","男","云计算技术应用","新华三银河ICT产业学院","是",{"$f":"VLOOKUP(B32,[1]统招2022级!$B$1:$V$626,21,0)","v":"统招2023级"}]
[32,"2023102040506","周丹","女","云计算技术应用","新华三银河ICT产业学院","是",{"$f":"VLOOKUP(B33,[1]统招2022级!$B$1:$V$626,21,0)","v":"统招2023级"}]
[33,"2023102040122","王语轩","女","云计算技术应用","新华三银河ICT产业学院","是",{"$f":"VLOOKUP(B34,[1]统招2022级!$B$1:$V$626,21,0)","v":"统招2023级"}]
[34,"2023102040417","张海涛","男","云计算技术应用","新华三银河ICT产业学院","是",{"$f":"VLOOKUP(B35,[1]统招2022级!$B$1:$V$626,21,0)","v":"统招2023级"}]
[35,"2023102040551","李梅","女","云计算技术应用","新华三银河ICT产业学院","是",{"$f":"VLOOKUP(B36,[1]统招2022级!$B$1:$V$626,21,0)","v":"统招2023级"}]
[36,"2023102040212","牛心成","男","云计算技术应用","新华三银河ICT产业学院","是",{"$f":"VLOOKUP(B37,[1]统招2022级!$B$1:$V$626,21,0)","v":"统招2023级"}]
[37,"2023102040518","樊星悦","女","云计算技术应用","新华三银河ICT产业学院","是",{"$f":"VLOOKUP(B38,[1]统招2022级!$B$1:$V$626,21,0)","v":"统招2023级"}]
[38,"2023102040260","杨鑫锐","男","云计算技术应用","新华三银河ICT产业学院","是",{"$f":"VLOOKUP(B39,[1]统招2022级!$B$1:$V$626,21,0)","v":"统招2023级"}]
[39,"2023102040254","陈光海","男","云计算技术应用","新华三银河ICT产业学院","是",{"$f":"VLOOKUP(B40,[1]统招2022级!$B$1:$V$626,21,0)","v":"统招2023级"}]
[40,"2023102040215","张林凤","女","云计算技术应用","新华三银河ICT产业学院","是",{"$f":"VLOOKUP(B41,[1]统招2022级!$B$1:$V$626,21,0)","v":"统招2023级"}]
[41,"2023102040204","程嘉麟","男","云计算技术应用","新华三银河ICT产业学院","是",{"$f":"VLOOKUP(B42,[1]统招2022级!$B$1:$V$626,21,0)","v":"统招2023级"}]
[42,"2023102040521","黄信洁","男","云计算技术应用","新华三银河ICT产业学院","是",{"$f":"VLOOKUP(B43,[1]统招2022级!$B$1:$V$626,21,0)","v":"统招2023级"}]
[43,"2023102040308","缪春燕","女","云计算技术应用","新华三银河ICT产业学院","是",{"$f":"VLOOKUP(B44,[1]统招2022级!$B$1:$V$626,21,0)","v":"统招2023级"}]
[44,"2023102040523","刘治熊","男","云计算技术应用","新华三银河ICT产业学院","是",{"$f":"VLOOKUP(B45,[1]统招2022级!$B$1:$V$626,21,0)","v":"统招2023级"}]
[45,"2023102040332","任天益","男","云计算技术应用","新华三银河ICT产业学院","是",{"$f":"VLOOKUP(B46,[1]统招2022级!$B$1:$V$626,21,0)","v":"统招2023级"}]
[46,"2023102040515","李祖城","男","云计算技术应用","新华三银河ICT产业学院","是",{"$f":"VLOOKUP(B47,[1]统招2022级!$B$1:$V$626,21,0)","v":"统招2023级"}]
[47,"2023102040545","李坤","男","云计算技术应用","新华三银河ICT产业学院","是",{"$f":"VLOOKUP(B48,[1]统招2022级!$B$1:$V$626,21,0)","v":"统招2023级"}]
[48,"2023102040211","刘滋滢","女","云计算技术应用","新华三银河ICT产业学院","是",{"$f":"VLOOKUP(B49,[1]统招2022级!$B$1:$V$626,21,0)","v":"统招2023级"}]
[49,"2023102040542","谢全鑫","男","云计算技术应用","新华三银河ICT产业学院","是",{"$f":"VLOOKUP(B50,[1]统招2022级!$B$1:$V$626,21,0)","v":"统招2023级"}]
[50,"2023102040514","陶名杨","男","云计算技术应用","新华三银河ICT产业学院","是",{"$f":"VLOOKUP(B51,[1]统招2022级!$B$1:$V$626,21,0)","v":"统招2023级"}]
[51,"2023102040227","吴奕铭","男","云计算技术应用","新华三银河ICT产业学院","是",{"$f":"VLOOKUP(B52,[1]统招2022级!$B$1:$V$626,21,0)","v":"统招2023级"}]
[52,"2023102040519","廖家俞","男","云计算技术应用","新华三银河ICT产业学院","是",{"$f":"VLOOKUP(B53,[1]统招2022级!$B$1:$V$626,21,0)","v":"统招2023级"}]
[53,"2023102040503","周林","女","云计算技术应用","新华三银河ICT产业学院","是",{"$f":"VLOOKUP(B54,[1]统招2022级!$B$1:$V$626,21,0)","v":"统招2023级"}]
[54,"2023102040524","姜平","男","云计算技术应用","新华三银河ICT产业学院","是",{"$f":"VLOOKUP(B55,[1]统招2022级!$B$1:$V$626,21,0)","v":"统招2023级"}]
[55,"2023102040345","月喻伟","男","云计算技术应用","新华三银河ICT产业学院","是",{"$f":"VLOOKUP(B56,[1]统招2022级!$B$1:$V$626,21,0)","v":"统招2023级"}]
[56,"2023102040243","张成","男","云计算技术应用","新华三银河ICT产业学院","是",{"$f":"VLOOKUP(B57,[1]统招2022级!$B$1:$V$626,21,0)","v":"统招2023级"}]
[57,"2023102040230","万琳","女","云计算技术应用","新华三银河ICT产业学院","是",{"$f":"VLOOKUP(B58,[1]统招2022级!$B$1:$V$626,21,0)","v":"统招2023级"}]
[58,"2023102040307","李江","男","云计算技术应用","新华三银河ICT产业学院","是",{"$f":"VLOOKUP(B59,[1]统招2022级!$B$1:$V$626,21,0)","v":"统招2023级"}]
[59,"2023102040334","何天朋","男","云计算技术应用","新华三银河ICT产业学院","是",{"$f":"VLOOKUP(B60,[1]统招2022级!$B$1:$V$626,21,0)","v":"统招2023级"}]
[60,"2023102040337","陈平","男","云计算技术应用","新华三银河ICT产业学院","是",{"$f":"VLOOKUP(B61,[1]统招2022级!$B$1:$V$626,21,0)","v":"统招2023级"}]
[61,"2023102040236","刘奕苒","女","云计算技术应用","新华三银河ICT产业学院","是",{"$f":"VLOOKUP(B62,[1]统招2022级!$B$1:$V$626,21,0)","v":"统招2023级"}]
[62,"2023102040505","李丽","女","云计算技术应用","新华三银河ICT产业学院","是",{"$f":"VLOOKUP(B63,[1]统招2022级!$B$1:$V$626,21,0)","v":"统招2023级"}]
[63,"2023102040207","袁帅喆","男","云计算技术应用","新华三银河ICT产业学院","是",{"$f":"VLOOKUP(B64,[1]统招2022级!$B$1:$V$626,21,0)","v":"统招2023级"}]
[64,"2023102040513","肖凯洪","男","云计算技术应用","新华三银河ICT产业学院","是",{"$f":"VLOOKUP(B65,[1]统招2022级!$B$1:$V$626,21,0)","v":"统招2023级"}]
[65,"2023102040416","黄志鹏","男","云计算技术应用","新华三银河ICT产业学院","是",{"$f":"VLOOKUP(B66,[1]统招2022级!$B$1:$V$626,21,0)","v":"统招2023级"}]
[66,"2023102040426","邓子乐","男","云计算技术应用","新华三银河ICT产业学院","是",{"$f":"VLOOKUP(B67,[1]统招2022级!$B$1:$V$626,21,0)","v":"统招2023级"}]
[67,"2023102040317","杨志煜","男","云计算技术应用","新华三银河ICT产业学院","是",{"$f":"VLOOKUP(B68,[1]统招2022级!$B$1:$V$626,21,0)","v":"统招2023级"}]
[68,"2023102040253","唐学灵","男","云计算技术应用","新华三银河ICT产业学院","是",{"$f":"VLOOKUP(B69,[1]统招2022级!$B$1:$V$626,21,0)","v":"统招2023级"}]
[69,"2023102040226","徐锐坤","男","云计算技术应用","新华三银河ICT产业学院","是",{"$f":"VLOOKUP(B70,[1]统招2022级!$B$1:$V$626,21,0)","v":"统招2023级"}]
[70,"2023102040240","何川江","男","云计算技术应用","新华三银河ICT产业学院","是",{"$f":"VLOOKUP(B71,[1]统招2022级!$B$1:$V$626,21,0)","v":"统招2023级"}]
[71,"2023102040303","何柄键","男","云计算技术应用","新华三银河ICT产业学院","是",{"$f":"VLOOKUP(B72,[1]统招2022级!$B$1:$V$626,21,0)","v":"统招2023级"}]
[72,"2023102040239","许航","男","云计算技术应用","新华三银河ICT产业学院","是",{"$f":"VLOOKUP(B73,[1]统招2022级!$B$1:$V$626,21,0)","v":"统招2023级"}]
[73,"2023102040232","文良","男","云计算技术应用","新华三银河ICT产业学院","是",{"$f":"VLOOKUP(B74,[1]统招2022级!$B$1:$V$626,21,0)","v":"统招2023级"}]
[74,"2023102040219","夏晨飞","男","云计算技术应用","新华三银河ICT产业学院","是",{"$f":"VLOOKUP(B75,[1]统招2022级!$B$1:$V$626,21,0)","v":"统招2023级"}]
[75,"2023102040224","段淇民","男","云计算技术应用","新华三银河ICT产业学院","是",{"$f":"VLOOKUP(B76,[1]统招2022级!$B$1:$V$626,21,0)","v":"统招2023级"}]
[76,"2023102040543","曹德骏","男","云计算技术应用","新华三银河ICT产业学院","是",{"$f":"VLOOKUP(B77,[1]统招2022级!$B$1:$V$626,21,0)","v":"统招2023级"}]
[77,"2023102040244","蔡俊宇","男","云计算技术应用","新华三银河ICT产业学院","是",{"$f":"VLOOKUP(B78,[1]统招2022级!$B$1:$V$626,21,0)","v":"统招2023级"}]
[78,"2023102040102","陈家申","男","云计算技术应用","新华三银河ICT产业学院","是",{"$f":"VLOOKUP(B79,[1]统招2022级!$B$1:$V$626,21,0)","v":"统招2023级"}]
[79,"2023102040309","黎欣艳","女","云计算技术应用","新华三银河ICT产业学院","是",{"$f":"VLOOKUP(B80,[1]统招2022级!$B$1:$V$626,21,0)","v":"统招2023级"}]
[80,"2023102040336","卢星宇","男","云计算技术应用","新华三银河ICT产业学院","是",{"$f":"VLOOKUP(B81,[1]统招2022级!$B$1:$V$626,21,0)","v":"统招2023级"}]
[81,"2023102040554","陈勇","男","云计算技术应用","新华三银河ICT产业学院","是",{"$f":"VLOOKUP(B82,[1]统招2022级!$B$1:$V$626,21,0)","v":"统招2023级"}]
[82,"2023102040124","钟猷林","男","云计算技术应用","新华三银河ICT产业学院","是",{"$f":"VLOOKUP(B83,[1]统招2022级!$B$1:$V$626,21,0)","v":"统招2023级"}]
[83,"2023102040422","徐朝鑫","男","云计算技术应用","新华三银河ICT产业学院","是",{"$f":"VLOOKUP(B84,[1]统招2022级!$B$1:$V$626,21,0)","v":"统招2023级"}]
[84,"2023102040256","周文香","女","云计算技术应用","新华三银河ICT产业学院","是",{"$f":"VLOOKUP(B85,[1]统招2022级!$B$1:$V$626,21,0)","v":"统招2023级"}]
[85,"2023102040329","王晋烽","男","云计算技术应用","新华三银河ICT产业学院","是",{"$f":"VLOOKUP(B86,[1]统招2022级!$B$1:$V$626,21,0)","v":"统招2023级"}]
[86,"2023102060102","高雨露","女","云计算技术应用","新华三银河ICT产业学院","是",{"$f":"VLOOKUP(B87,[1]统招2022级!$B$1:$V$626,21,0)","v":"统招2023级"}]
[87,"2023102060143","杨蕊","女","云计算技术应用","新华三银河ICT产业学院","是",{"$f":"VLOOKUP(B88,[1]统招2022级!$B$1:$V$626,21,0)","v":"统招2023级"}]
[88,"2023102060443","闵丽君","女","云计算技术应用","新华三银河ICT产业学院","是",{"$f":"VLOOKUP(B89,[1]统招2022级!$B$1:$V$626,21,0)","v":"统招2023级"}]
[89,"2023102060150","任思翔","女","云计算技术应用","新华三银河ICT产业学院","是",{"$f":"VLOOKUP(B90,[1]统招2022级!$B$1:$V$626,21,0)","v":"统招2023级"}]
[90,"2023102060122","喻源源","男","云计算技术应用","新华三银河ICT产业学院","是",{"$f":"VLOOKUP(B91,[1]统招2022级!$B$1:$V$626,21,0)","v":"统招2023级"}]
[91,"2023102060306","陈中雨","女","云计算技术应用","新华三银河ICT产业学院","是",{"$f":"VLOOKUP(B92,[1]统招2022级!$B$1:$V$626,21,0)","v":"统招2023级"}]
[92,"2023102060111","张子文","男","云计算技术应用","新华三银河ICT产业学院","是",{"$f":"VLOOKUP(B93,[1]统招2022级!$B$1:$V$626,21,0)","v":"统招2023级"}]
[93,"2023102060106","董林婧","女","云计算技术应用","新华三银河ICT产业学院","是",{"$f":"VLOOKUP(B94,[1]统招2022级!$B$1:$V$626,21,0)","v":"统招2023级"}]
[94,"2023102060422","肖欣","女","云计算技术应用","新华三银河ICT产业学院","是",{"$f":"VLOOKUP(B95,[1]统招2022级!$B$1:$V$626,21,0)","v":"统招2023级"}]
[95,"2023102060246","施文欣","女","大数据技术","新华三银河ICT产业学院","是",{"$f":"VLOOKUP(B96,[1]统招2022级!$B$1:$V$626,21,0)","v":"统招2023级"}]
[96,"2023102060133","苏航炜","男","大数据技术","新华三银河ICT产业学院","是",{"$f":"VLOOKUP(B97,[1]统招2022级!$B$1:$V$626,21,0)","v":"统招2023级"}]
[97,"2023102060329","吕成林","男","大数据技术","新华三银河ICT产业学院","是",{"$f":"VLOOKUP(B98,[1]统招2022级!$B$1:$V$626,21,0)","v":"统招2023级"}]
[98,"2023102060228","杨桦","男","大数据技术","新华三银河ICT产业学院","是",{"$f":"VLOOKUP(B99,[1]统招2022级!$B$1:$V$626,21,0)","v":"统招2023级"}]
[99,"2023102060144","何晓雪","女","大数据技术","新华三银河ICT产业学院","是",{"$f":"VLOOKUP(B100,[1]统招2022级!$B$1:$V$626,21,0)","v":"统招2023级"}]
[100,"2023102060423","周小娜","女","大数据技术","新华三银河ICT产业学院","是",{"$f":"VLOOKUP(B101,[1]统招2022级!$B$1:$V$626,21,0)","v":"统招2023级"}]
[101,"2023102060408","代可欣","女","大数据技术","新华三银河ICT产业学院","是",{"$f":"VLOOKUP(B102,[1]统招2022级!$B$1:$V$626,21,0)","v":"统招2023级"}]
[102,"2023102060450","常文学","女","大数据技术","新华三银河ICT产业学院","是",{"$f":"VLOOKUP(B103,[1]统招2022级!$B$1:$V$626,21,0)","v":"统招2023级"}]
[103,"2023102060210","徐春梅","女","大数据技术","新华三银河ICT产业学院","是",{"$f":"VLOOKUP(B104,[1]统招2022级!$B$1:$V$626,21,0)","v":"统招2023级"}]
[104,"2023102060138","蔡家俊","男","大数据技术","新华三银河ICT产业学院","是",{"$f":"VLOOKUP(B105,[1]统招2022级!$B$1:$V$626,21,0)","v":"统招2023级"}]
[105,"2023102060219","李文韬","男","大数据技术","新华三银河ICT产业学院","是",{"$f":"VLOOKUP(B106,[1]统招2022级!$B$1:$V$626,21,0)","v":"统招2023级"}]
[106,"2023102060203","陈露","女","大数据技术","新华三银河ICT产业学院","是",{"$f":"VLOOKUP(B107,[1]统招2022级!$B$1:$V$626,21,0)","v":"统招2023级"}]
[107,"2023102060301","王慧","女","大数据技术","新华三银河ICT产业学院","是",{"$f":"VLOOKUP(B108,[1]统招2022级!$B$1:$V$626,21,0)","v":"统招2023级"}]
[108,"2023102060101","刘宇卓","男","大数据技术","新华三银河ICT产业学院","是",{"$f":"VLOOKUP(B109,[1]统招2022级!$B$1:$V$626,21,0)","v":"统招2023级"}]
[109,"2023102060321","刘浩南","男","大数据技术","新华三银河ICT产业学院","是",{"$f":"VLOOKUP(B110,[1]统招2022级!$B$1:$V$626,21,0)","v":"统招2023级"}]
[110,"2023102060202","周芯淼","女","大数据技术","新华三银河ICT产业学院","是",{"$f":"VLOOKUP(B111,[1]统招2022级!$B$1:$V$626,21,0)","v":"统招2023级"}]
[111,"2023102060339","苗茂森","男","大数据技术","新华三银河ICT产业学院","是",{"$f":"VLOOKUP(B112,[1]统招2022级!$B$1:$V$626,21,0)","v":"统招2023级"}]
[112,"2023102060424","贺秋雪","女","大数据技术(大数据分析)","新华三银河ICT产业学院","是",{"$f":"VLOOKUP(B113,[1]统招2022级!$B$1:$V$626,21,0)","v":"统招2023级"}]
[113,"2023102060132","易奎","男","大数据技术","新华三银河ICT产业学院","是",{"$f":"VLOOKUP(B114,[1]统招2022级!$B$1:$V$626,21,0)","v":"统招2023级"}]
[114,"2023102060204","许金融","男","大数据技术","新华三银河ICT产业学院","是",{"$f":"VLOOKUP(B115,[1]统招2022级!$B$1:$V$626,21,0)","v":"统招2023级"}]
[115,"2023102060348","聂宋明","男","大数据技术","新华三银河ICT产业学院","是",{"$f":"VLOOKUP(B116,[1]统招2022级!$B$1:$V$626,21,0)","v":"统招2023级"}]
[116,"2023102060131","马文","男","大数据技术","新华三银河ICT产业学院","是",{"$f":"VLOOKUP(B117,[1]统招2022级!$B$1:$V$626,21,0)","v":"统招2023级"}]
[117,"2023102060244","王瑞","男","大数据技术","新华三银河ICT产业学院","是",{"$f":"VLOOKUP(B118,[1]统招2022级!$B$1:$V$626,21,0)","v":"统招2023级"}]
[118,"2023102060326","李博洋","男","大数据技术","新华三银河ICT产业学院","是",{"$f":"VLOOKUP(B119,[1]统招2022级!$B$1:$V$626,21,0)","v":"统招2023级"}]
[119,"2023102060323","葛军丞","男","大数据技术","新华三银河ICT产业学院","是",{"$f":"VLOOKUP(B120,[1]统招2022级!$B$1:$V$626,21,0)","v":"统招2023级"}]
[120,"2023102060105","李依诺","女","大数据技术","新华三银河ICT产业学院","是",{"$f":"VLOOKUP(B121,[1]统招2022级!$B$1:$V$626,21,0)","v":"统招2023级"}]
[121,"2023102060307","曾理","男","大数据技术","新华三银河ICT产业学院","是",{"$f":"VLOOKUP(B122,[1]统招2022级!$B$1:$V$626,21,0)","v":"统招2023级"}]
[122,"2023102060224","李建文","男","大数据技术","新华三银河ICT产业学院","是",{"$f":"VLOOKUP(B123,[1]统招2022级!$B$1:$V$626,21,0)","v":"统招2023级"}]
[123,"2023102060137","廖玲","女","大数据技术","新华三银河ICT产业学院","是",{"$f":"VLOOKUP(B124,[1]统招2022级!$B$1:$V$626,21,0)","v":"统招2023级"}]
[124,"2023102060240","杨林杉","女","大数据技术","新华三银河ICT产业学院","是",{"$f":"VLOOKUP(B125,[1]统招2022级!$B$1:$V$626,21,0)","v":"统招2023级"}]
[125,"2023102060230","张世霖","男","大数据技术","新华三银河ICT产业学院","是",{"$f":"VLOOKUP(B126,[1]统招2022级!$B$1:$V$626,21,0)","v":"统招2023级"}]
[126,"2023102060223","吕彤","女","大数据技术","新华三银河ICT产业学院","是",{"$f":"VLOOKUP(B127,[1]统招2022级!$B$1:$V$626,21,0)","v":"统招2023级"}]
[127,"2023102060333","王洪攀","男","大数据技术","新华三银河ICT产业学院","是",{"$f":"VLOOKUP(B128,[1]统招2022级!$B$1:$V$626,21,0)","v":"统招2023级"}]
[128,"2023102060318","杨顺泉","男","大数据技术","新华三银河ICT产业学院","是",{"$f":"VLOOKUP(B129,[1]统招2022级!$B$1:$V$626,21,0)","v":"统招2023级"}]
[129,"2023102060147","杨然","女","大数据技术","新华三银河ICT产业学院","是",{"$f":"VLOOKUP(B130,[1]统招2022级!$B$1:$V$626,21,0)","v":"统招2023级"}]
[130,"2023102060123","陈鑫梦","女","大数据技术","新华三银河ICT产业学院","是",{"$f":"VLOOKUP(B131,[1]统招2022级!$B$1:$V$626,21,0)","v":"统招2023级"}]
[131,"2023102060117","黄榮强","男","大数据技术","新华三银河ICT产业学院","是",{"$f":"VLOOKUP(B132,[1]统招2022级!$B$1:$V$626,21,0)","v":"统招2023级"}]
[132,"2023102060243","周锦泓","男","大数据技术","新华三银河ICT产业学院","是",{"$f":"VLOOKUP(B133,[1]统招2022级!$B$1:$V$626,21,0)","v":"统招2023级"}]
[133,"2023102060112","董义","男","大数据技术","新华三银河ICT产业学院","是",{"$f":"VLOOKUP(B134,[1]统招2022级!$B$1:$V$626,21,0)","v":"统招2023级"}]
[134,"2023102060420","张施语","女","大数据技术","新华三银河ICT产业学院","是",{"$f":"VLOOKUP(B135,[1]统招2022级!$B$1:$V$626,21,0)","v":"统招2023级"}]
[135,"2023102060320","王成禧","男","大数据技术","新华三银河ICT产业学院","是",{"$f":"VLOOKUP(B136,[1]统招2022级!$B$1:$V$626,21,0)","v":"统招2023级"}]
[136,"2023102060140","周敏","女","大数据技术","新华三银河ICT产业学院","是",{"$f":"VLOOKUP(B137,[1]统招2022级!$B$1:$V$626,21,0)","v":"统招2023级"}]
[137,"2023102060136","宋文博","男","大数据技术","新华三银河ICT产业学院","是",{"$f":"VLOOKUP(B138,[1]统招2022级!$B$1:$V$626,21,0)","v":"统招2023级"}]
[138,"2023102060324","黄岩","男","大数据技术","新华三银河ICT产业学院","是",{"$f":"VLOOKUP(B139,[1]统招2022级!$B$1:$V$626,21,0)","v":"统招2023级"}]
[139,"2023102060342","王恒","男","大数据技术","新华三银河ICT产业学院","是",{"$f":"VLOOKUP(B140,[1]统招2022级!$B$1:$V$626,21,0)","v":"统招2023级"}]
[140,"2023102060316","闫洪诚","男","大数据技术","新华三银河ICT产业学院","是",{"$f":"VLOOKUP(B141,[1]统招2022级!$B$1:$V$626,21,0)","v":"统招2023级"}]
[141,"2023102060434","胥蕊","男","大数据技术","新华三银河ICT产业学院","是",{"$f":"VLOOKUP(B142,[1]统招2022级!$B$1:$V$626,21,0)","v":"统招2023级"}]
[142,"2023102060430","罗子敬","男","大数据技术","新华三银河ICT产业学院","是",{"$f":"VLOOKUP(B143,[1]统招2022级!$B$1:$V$626,21,0)","v":"统招2023级"}]
[143,"2023102060211","漆鑫","男","大数据技术","新华三银河ICT产业学院","是",{"$f":"VLOOKUP(B144,[1]统招2022级!$B$1:$V$626,21,0)","v":"统招2023级"}]
[144,"2023102060412","代雨婷","女","大数据技术","新华三银河ICT产业学院","是",{"$f":"VLOOKUP(B145,[1]统招2022级!$B$1:$V$626,21,0)","v":"统招2023级"}]
[145,"2023102060402","张天翔","男","大数据技术","新华三银河ICT产业学院","是",{"$f":"VLOOKUP(B146,[1]统招2022级!$B$1:$V$626,21,0)","v":"统招2023级"}]
[146,"2023102060220","唐曼茜","女","大数据技术","新华三银河ICT产业学院","是",{"$f":"VLOOKUP(B147,[1]统招2022级!$B$1:$V$626,21,0)","v":"统招2023级"}]
[147,"2023102060201","达瓦卓玛","女","大数据技术","新华三银河ICT产业学院","是",{"$f":"VLOOKUP(B148,[1]统招2022级!$B$1:$V$626,21,0)","v":"统招2023级"}]
[148,"2023102060215","曹玉莲","女","大数据技术","新华三银河ICT产业学院","是",{"$f":"VLOOKUP(B149,[1]统招2022级!$B$1:$V$626,21,0)","v":"统招2023级"}]
[149,"2023102060241","唐怡琳","女","大数据技术","新华三银河ICT产业学院","是",{"$f":"VLOOKUP(B150,[1]统招2022级!$B$1:$V$626,21,0)","v":"统招2023级"}]
[150,"2023102060347","刘崇义","男","大数据技术","新华三银河ICT产业学院","是",{"$f":"VLOOKUP(B151,[1]统招2022级!$B$1:$V$626,21,0)","v":"统招2023级"}]
[151,"2023102060247","王雨嘉","女","大数据技术","新华三银河ICT产业学院","是",{"$f":"VLOOKUP(B152,[1]统招2022级!$B$1:$V$626,21,0)","v":"统招2023级"}]
[152,"2023102060116","苏洲","男","大数据技术","新华三银河ICT产业学院","是",{"$f":"VLOOKUP(B153,[1]统招2022级!$B$1:$V$626,21,0)","v":"统招2023级"}]
[153,"2023102060120","农惠群","女","大数据技术","新华三银河ICT产业学院","是",{"$f":"VLOOKUP(B154,[1]统招2022级!$B$1:$V$626,21,0)","v":"统招2023级"}]
[154,"2023102080311","朱红宇","男","计算机网络技术","新华三银河ICT产业学院","是",{"$f":"VLOOKUP(B155,[1]统招2022级!$B$1:$V$626,21,0)","v":"统招2023级"}]
[155,"2023102080228","曹烜","女","计算机网络技术","新华三银河ICT产业学院","是",{"$f":"VLOOKUP(B156,[1]统招2022级!$B$1:$V$626,21,0)","v":"统招2023级"}]
[156,"2023102080315","李锐","男","计算机网络技术","新华三银河ICT产业学院","是",{"$f":"VLOOKUP(B157,[1]统招2022级!$B$1:$V$626,21,0)","v":"统招2023级"}]
[157,"2023102080354","李俊璋","男","计算机网络技术","新华三银河ICT产业学院","是",{"$f":"VLOOKUP(B158,[1]统招2022级!$B$1:$V$626,21,0)","v":"统招2023级"}]
[158,"2023102080419","杨馨宇","男","计算机网络技术","新华三银河ICT产业学院","是",{"$f":"VLOOKUP(B159,[1]统招2022级!$B$1:$V$626,21,0)","v":"统招2023级"}]
[159,"2023102080515","闫建鑫","男","计算机网络技术","新华三银河ICT产业学院","是",{"$f":"VLOOKUP(B160,[1]统招2022级!$B$1:$V$626,21,0)","v":"统招2023级"}]
[160,"2023102080516","勾华国","男","计算机网络技术","新华三银河ICT产业学院","是",{"$f":"VLOOKUP(B161,[1]统招2022级!$B$1:$V$626,21,0)","v":"统招2023级"}]
[161,"2023102080401","巩颖","女","计算机网络技术","新华三银河ICT产业学院","是",{"$f":"VLOOKUP(B162,[1]统招2022级!$B$1:$V$626,21,0)","v":"统招2023级"}]
[162,"2023102080345","易华强","男","计算机网络技术","新华三银河ICT产业学院","是",{"$f":"VLOOKUP(B163,[1]统招2022级!$B$1:$V$626,21,0)","v":"统招2023级"}]
[163,"2023102080521","吴佳豪","男","计算机网络技术","新华三银河ICT产业学院","是",{"$f":"VLOOKUP(B164,[1]统招2022级!$B$1:$V$626,21,0)","v":"统招2023级"}]
[164,"2023102080236","何倩","女","计算机网络技术","新华三银河ICT产业学院","是",{"$f":"VLOOKUP(B165,[1]统招2022级!$B$1:$V$626,21,0)","v":"统招2023级"}]
[165,"2023101060417","阿布木果","男","计算机网络技术","新华三银河ICT产业学院","是",{"$f":"VLOOKUP(B166,[1]统招2022级!$B$1:$V$626,21,0)","v":"统招2023级"}]
[166,"2023102080151","曹梦婷","女","计算机网络技术","新华三银河ICT产业学院","是",{"$f":"VLOOKUP(B167,[1]统招2022级!$B$1:$V$626,21,0)","v":"统招2023级"}]
[167,"2023102080122","邓佳乐","女","计算机网络技术","新华三银河ICT产业学院","是",{"$f":"VLOOKUP(B168,[1]统招2022级!$B$1:$V$626,21,0)","v":"统招2023级"}]
[168,"2023102080510","俄力拉日","男","计算机网络技术","新华三银河ICT产业学院","是",{"$f":"VLOOKUP(B169,[1]统招2022级!$B$1:$V$626,21,0)","v":"统招2023级"}]
[169,"2023102080542","张家硕","男","计算机网络技术","新华三银河ICT产业学院","是",{"$f":"VLOOKUP(B170,[1]统招2022级!$B$1:$V$626,21,0)","v":"统招2023级"}]
[170,"2023102080107","郑鏊杨","男","计算机网络技术","新华三银河ICT产业学院","是",{"$f":"VLOOKUP(B171,[1]统招2022级!$B$1:$V$626,21,0)","v":"统招2023级"}]
[171,"2023102080105","田宗鑫","男","计算机网络技术","新华三银河ICT产业学院","是",{"$f":"VLOOKUP(B172,[1]统招2022级!$B$1:$V$626,21,0)","v":"统招2023级"}]
[172,"2023102080541","白珂涵","男","计算机网络技术","新华三银河ICT产业学院","是",{"$f":"VLOOKUP(B173,[1]统招2022级!$B$1:$V$626,21,0)","v":"统招2023级"}]
[173,"2023102080217","蔡亦婷","女","计算机网络技术","新华三银河ICT产业学院","是",{"$f":"VLOOKUP(B174,[1]统招2022级!$B$1:$V$626,21,0)","v":"统招2023级"}]
[174,"2023102080229","刘雨霏","女","计算机网络技术","新华三银河ICT产业学院","是",{"$f":"VLOOKUP(B175,[1]统招2022级!$B$1:$V$626,21,0)","v":"统招2023级"}]
[175,"2023102080123","李济宏","男","计算机网络技术","新华三银河ICT产业学院","是",{"$f":"VLOOKUP(B176,[1]统招2022级!$B$1:$V$626,21,0)","v":"统招2023级"}]
[176,"2023102080134","刘鑫","男","计算机网络技术","新华三银河ICT产业学院","是",{"$f":"VLOOKUP(B177,[1]统招2022级!$B$1:$V$626,21,0)","v":"统招2023级"}]
[177,"2023102080213","王张均","女","计算机网络技术","新华三银河ICT产业学院","是",{"$f":"VLOOKUP(B178,[1]统招2022级!$B$1:$V$626,21,0)","v":"统招2023级"}]
[178,"2023102080152","黄玉","女","计算机网络技术","新华三银河ICT产业学院","是",{"$f":"VLOOKUP(B179,[1]统招2022级!$B$1:$V$626,21,0)","v":"统招2023级"}]
[179,"2023102080120","李桂良","男","计算机网络技术","新华三银河ICT产业学院","是",{"$f":"VLOOKUP(B180,[1]统招2022级!$B$1:$V$626,21,0)","v":"统招2023级"}]
[180,"2023102080231","梁凤梅","女","计算机网络技术","新华三银河ICT产业学院","是",{"$f":"VLOOKUP(B181,[1]统招2022级!$B$1:$V$626,21,0)","v":"统招2023级"}]
[181,"2023102080253","高梓煜","男","计算机网络技术","新华三银河ICT产业学院","是",{"$f":"VLOOKUP(B182,[1]统招2022级!$B$1:$V$626,21,0)","v":"统招2023级"}]
[182,"2023102080303","唐楠","男","计算机网络技术","新华三银河ICT产业学院","是",{"$f":"VLOOKUP(B183,[1]统招2022级!$B$1:$V$626,21,0)","v":"统招2023级"}]
[183,"2023102080307","植浩嘉","男","计算机网络技术","新华三银河ICT产业学院","是",{"$f":"VLOOKUP(B184,[1]统招2022级!$B$1:$V$626,21,0)","v":"统招2023级"}]
[184,"2023102080150","卢天旭","男","计算机网络技术","新华三银河ICT产业学院","是",{"$f":"VLOOKUP(B185,[1]统招2022级!$B$1:$V$626,21,0)","v":"统招2023级"}]
[185,"2023102080353","张鑫","男","计算机网络技术","新华三银河ICT产业学院","是",{"$f":"VLOOKUP(B186,[1]统招2022级!$B$1:$V$626,21,0)","v":"统招2023级"}]
[186,"2023102080324","徐杰","男","计算机网络技术","新华三银河ICT产业学院","是",{"$f":"VLOOKUP(B187,[1]统招2022级!$B$1:$V$626,21,0)","v":"统招2023级"}]
[187,"2023102080126","彭芯梦","女","计算机网络技术","新华三银河ICT产业学院","是",{"$f":"VLOOKUP(B188,[1]统招2022级!$B$1:$V$626,21,0)","v":"统招2023级"}]
[188,"2023102080306","石金凤","女","计算机网络技术","新华三银河ICT产业学院","是",{"$f":"VLOOKUP(B189,[1]统招2022级!$B$1:$V$626,21,0)","v":"统招2023级"}]
[189,"2023102080318","陈棚宇","男","计算机网络技术","新华三银河ICT产业学院","是",{"$f":"VLOOKUP(B190,[1]统招2022级!$B$1:$V$626,21,0)","v":"统招2023级"}]
[190,"2023102080257","高琳琌","男","计算机网络技术","新华三银河ICT产业学院","是",{"$f":"VLOOKUP(B191,[1]统招2022级!$B$1:$V$626,21,0)","v":"统招2023级"}]
[191,"2023102080349","刘泓麟","男","计算机网络技术","新华三银河ICT产业学院","是",{"$f":"VLOOKUP(B192,[1]统招2022级!$B$1:$V$626,21,0)","v":"统招2023级"}]
[192,"2023102080533","范嗣镒","女","计算机网络技术","新华三银河ICT产业学院","是",{"$f":"VLOOKUP(B193,[1]统招2022级!$B$1:$V$626,21,0)","v":"统招2023级"}]
[193,"2023102080135","黄榆航","男","计算机网络技术","新华三银河ICT产业学院","是",{"$f":"VLOOKUP(B194,[1]统招2022级!$B$1:$V$626,21,0)","v":"统招2023级"}]
[194,"2023102080534","杨小凤","女","计算机网络技术","新华三银河ICT产业学院","是",{"$f":"VLOOKUP(B195,[1]统招2022级!$B$1:$V$626,21,0)","v":"统招2023级"}]
[195,"2023102080133","张珂志","男","计算机网络技术","新华三银河ICT产业学院","是",{"$f":"VLOOKUP(B196,[1]统招2022级!$B$1:$V$626,21,0)","v":"统招2023级"}]
[196,"2023102080109","廖宁垒","男","计算机网络技术","新华三银河ICT产业学院","是",{"$f":"VLOOKUP(B197,[1]统招2022级!$B$1:$V$626,21,0)","v":"统招2023级"}]
[197,"2023102080310","罗晓成","男","计算机网络技术","新华三银河ICT产业学院","是",{"$f":"VLOOKUP(B198,[1]统招2022级!$B$1:$V$626,21,0)","v":"统招2023级"}]
[198,"2023102080101","齐绍旭","男","计算机网络技术","新华三银河ICT产业学院","是",{"$f":"VLOOKUP(B199,[1]统招2022级!$B$1:$V$626,21,0)","v":"统招2023级"}]
[199,"2023102080507","侯翰林","男","计算机网络技术","新华三银河ICT产业学院","是",{"$f":"VLOOKUP(B200,[1]统招2022级!$B$1:$V$626,21,0)","v":"统招2023级"}]
[200,"2023102080409","杨量","男","计算机网络技术","新华三银河ICT产业学院","是",{"$f":"VLOOKUP(B201,[1]统招2022级!$B$1:$V$626,21,0)","v":"统招2023级"}]
[201,"2023102080332","肖灿","女","计算机网络技术","新华三银河ICT产业学院","是",{"$f":"VLOOKUP(B202,[1]统招2022级!$B$1:$V$626,21,0)","v":"统招2023级"}]
[202,"2023102080235","唐章凌","男","计算机网络技术","新华三银河ICT产业学院","是",{"$f":"VLOOKUP(B203,[1]统招2022级!$B$1:$V$626,21,0)","v":"统招2023级"}]
[203,"2023102080129","蒋鸿宇","男","计算机网络技术","新华三银河ICT产业学院","是",{"$f":"VLOOKUP(B204,[1]统招2022级!$B$1:$V$626,21,0)","v":"统招2023级"}]
[204,"2023102080509","洛木小龙","男","计算机网络技术","新华三银河ICT产业学院","是",{"$f":"VLOOKUP(B205,[1]统招2022级!$B$1:$V$626,21,0)","v":"统招2023级"}]
[205,"2023102080149","周宇","男","计算机网络技术","新华三银河ICT产业学院","是",{"$f":"VLOOKUP(B206,[1]统招2022级!$B$1:$V$626,21,0)","v":"统招2023级"}]
[206,"2023102080431","廖浚利","女","计算机网络技术","新华三银河ICT产业学院","是",{"$f":"VLOOKUP(B207,[1]统招2022级!$B$1:$V$626,21,0)","v":"统招2023级"}]
[207,"2023102080327","刘彦君","男","计算机网络技术","新华三银河ICT产业学院","是",{"$f":"VLOOKUP(B208,[1]统招2022级!$B$1:$V$626,21,0)","v":"统招2023级"}]
[208,"2023102080204","罗燕钦","男","计算机网络技术","新华三银河ICT产业学院","是",{"$f":"VLOOKUP(B209,[1]统招2022级!$B$1:$V$626,21,0)","v":"统招2023级"}]
[209,"2023102080302","向明","男","计算机网络技术","新华三银河ICT产业学院","是",{"$f":"VLOOKUP(B210,[1]统招2022级!$B$1:$V$626,21,0)","v":"统招2023级"}]
[210,"2023102080334","王天柱","男","计算机网络技术","新华三银河ICT产业学院","是",{"$f":"VLOOKUP(B211,[1]统招2022级!$B$1:$V$626,21,0)","v":"统招2023级"}]
[211,"2023102080511","陈雄","男","计算机网络技术","新华三银河ICT产业学院","是",{"$f":"VLOOKUP(B212,[1]统招2022级!$B$1:$V$626,21,0)","v":"统招2023级"}]
[212,"2023102080540","杨雨腾","男","计算机网络技术","新华三银河ICT产业学院","是",{"$f":"VLOOKUP(B213,[1]统招2022级!$B$1:$V$626,21,0)","v":"统招2023级"}]
[213,"2023102080258","刘军成","男","计算机网络技术","新华三银河ICT产业学院","是",{"$f":"VLOOKUP(B214,[1]统招2022级!$B$1:$V$626,21,0)","v":"统招2023级"}]
[214,"2023102080124","李英杰","男","计算机网络技术","新华三银河ICT产业学院","是",{"$f":"VLOOKUP(B215,[1]统招2022级!$B$1:$V$626,21,0)","v":"统招2023级"}]
[215,"2023102080301","张懿","男","计算机网络技术","新华三银河ICT产业学院","是",{"$f":"VLOOKUP(B216,[1]统招2022级!$B$1:$V$626,21,0)","v":"统招2023级"}]
[216,"2023102080329","廖强","男","计算机网络技术","新华三银河ICT产业学院","是",{"$f":"VLOOKUP(B217,[1]统招2022级!$B$1:$V$626,21,0)","v":"统招2023级"}]
[217,"2023102080417","邓辉","男","计算机网络技术","新华三银河ICT产业学院","是",{"$f":"VLOOKUP(B218,[1]统招2022级!$B$1:$V$626,21,0)","v":"统招2023级"}]
[218,"2023102080543","牟梦帅","男","计算机网络技术","新华三银河ICT产业学院","是",{"$f":"VLOOKUP(B219,[1]统招2022级!$B$1:$V$626,21,0)","v":"统招2023级"}]
[219,"2023102080453","任浩","男","计算机网络技术","新华三银河ICT产业学院","是",{"$f":"VLOOKUP(B220,[1]统招2022级!$B$1:$V$626,21,0)","v":"统招2023级"}]
[220,"2023102080127","徐易","女","计算机网络技术","新华三银河ICT产业学院","是",{"$f":"VLOOKUP(B221,[1]统招2022级!$B$1:$V$626,21,0)","v":"统招2023级"}]
[221,"2023102080113","张佳灏","男","计算机网络技术","新华三银河ICT产业学院","是",{"$f":"VLOOKUP(B222,[1]统招2022级!$B$1:$V$626,21,0)","v":"统招2023级"}]
[222,"2023102080351","郑文龙","男","计算机网络技术","新华三银河ICT产业学院","是",{"$f":"VLOOKUP(B223,[1]统招2022级!$B$1:$V$626,21,0)","v":"统招2023级"}]
[223,"2023102080227","黎洪瑞","男","计算机网络技术","新华三银河ICT产业学院","是",{"$f":"VLOOKUP(B224,[1]统招2022级!$B$1:$V$626,21,0)","v":"统招2023级"}]
[224,"2023102080512","姚秋","男","计算机网络技术","新华三银河ICT产业学院","是",{"$f":"VLOOKUP(B225,[1]统招2022级!$B$1:$V$626,21,0)","v":"统招2023级"}]
[225,"2023102080432","谢思怡","女","计算机网络技术","新华三银河ICT产业学院","是",{"$f":"VLOOKUP(B226,[1]统招2022级!$B$1:$V$626,21,0)","v":"统招2023级"}]
[226,"2023102080251","官灵杰","男","计算机网络技术","新华三银河ICT产业学院","是",{"$f":"VLOOKUP(B227,[1]统招2022级!$B$1:$V$626,21,0)","v":"统招2023级"}]
[227,"2023102080224","张家豪","男","计算机网络技术","新华三银河ICT产业学院","是",{"$f":"VLOOKUP(B228,[1]统招2022级!$B$1:$V$626,21,0)","v":"统招2023级"}]
[228,"2023102080321","刘洁","女","计算机网络技术","新华三银河ICT产业学院","是",{"$f":"VLOOKUP(B229,[1]统招2022级!$B$1:$V$626,21,0)","v":"统招2023级"}]
[229,"2023102080232","廖辉豪","男","计算机网络技术","新华三银河ICT产业学院","是",{"$f":"VLOOKUP(B230,[1]统招2022级!$B$1:$V$626,21,0)","v":"统招2023级"}]
[230,"2023102080433","陈凯","男","计算机网络技术","新华三银河ICT产业学院","是",{"$f":"VLOOKUP(B231,[1]统招2022级!$B$1:$V$626,21,0)","v":"统招2023级"}]
[231,"2023102080238","李川","男","计算机网络技术","新华三银河ICT产业学院","是",{"$f":"VLOOKUP(B232,[1]统招2022级!$B$1:$V$626,21,0)","v":"统招2023级"}]
[232,"2023102080108","张郑斌","男","计算机网络技术","新华三银河ICT产业学院","是",{"$f":"VLOOKUP(B233,[1]统招2022级!$B$1:$V$626,21,0)","v":"统招2023级"}]
[233,"2023102080320","赵学羊","男","计算机网络技术","新华三银河ICT产业学院","是",{"$f":"VLOOKUP(B234,[1]统招2022级!$B$1:$V$626,21,0)","v":"统招2023级"}]
[234,"2023102080335","李余满","男","计算机网络技术","新华三银河ICT产业学院","是",{"$f":"VLOOKUP(B235,[1]统招2022级!$B$1:$V$626,21,0)","v":"统招2023级"}]
[235,"2023102020229","雷郎","男","计算机网络技术","新华三银河ICT产业学院","是",{"$f":"VLOOKUP(B236,[1]统招2022级!$B$1:$V$626,21,0)","v":"统招2023级"}]
[236,"2023102080305","李双刚","男","计算机网络技术","新华三银河ICT产业学院","是",{"$f":"VLOOKUP(B237,[1]统招2022级!$B$1:$V$626,21,0)","v":"统招2023级"}]
[237,"2023102080436","陶伟霖","男","计算机网络技术","新华三银河ICT产业学院","是",{"$f":"VLOOKUP(B238,[1]统招2022级!$B$1:$V$626,21,0)","v":"统招2023级"}]
[238,"2023102080215","何铭","男","计算机网络技术","新华三银河ICT产业学院","是",{"$f":"VLOOKUP(B239,[1]统招2022级!$B$1:$V$626,21,0)","v":"统招2023级"}]
[239,"2023102080128","陈伦杰","男","计算机网络技术","新华三银河ICT产业学院","是",{"$f":"VLOOKUP(B240,[1]统招2022级!$B$1:$V$626,21,0)","v":"统招2023级"}]
[240,"2023102080325","李铜胜","男","计算机网络技术","新华三银河ICT产业学院","是",{"$f":"VLOOKUP(B241,[1]统招2022级!$B$1:$V$626,21,0)","v":"统招2023级"}]
[241,"2023102080137","杨海翔","男","计算机网络技术","新华三银河ICT产业学院","是",{"$f":"VLOOKUP(B242,[1]统招2022级!$B$1:$V$626,21,0)","v":"统招2023级"}]
[242,"2023102080317","陶兴文","男","计算机网络技术","新华三银河ICT产业学院","是",{"$f":"VLOOKUP(B243,[1]统招2022级!$B$1:$V$626,21,0)","v":"统招2023级"}]
[243,"2023102080144","郑昊杰","男","计算机网络技术","新华三银河ICT产业学院","是",{"$f":"VLOOKUP(B244,[1]统招2022级!$B$1:$V$626,21,0)","v":"统招2023级"}]
[244,"2023102080402","何嘉洁","女","计算机网络技术","新华三银河ICT产业学院","是",{"$f":"VLOOKUP(B245,[1]统招2022级!$B$1:$V$626,21,0)","v":"统招2023级"}]
[245,"2024102170165","文廷旭","女","云计算技术应用","新华三银河ICT产业学院","是",{"$f":"VLOOKUP(B246,[1]统招2022级!$B$1:$V$626,21,0)","v":"五年一贯制"}]
[246,"2024102170105","唐秀全","男","云计算技术应用","新华三银河ICT产业学院","是",{"$f":"VLOOKUP(B247,[1]统招2022级!$B$1:$V$626,21,0)","v":"五年一贯制"}]
[247,"2024102170107","陈佳俊","男","云计算技术应用","新华三银河ICT产业学院","是",{"$f":"VLOOKUP(B248,[1]统招2022级!$B$1:$V$626,21,0)","v":"五年一贯制"}]
[248,"2024102170109","朱婉睿","女","云计算技术应用","新华三银河ICT产业学院","是",{"$f":"VLOOKUP(B249,[1]统招2022级!$B$1:$V$626,21,0)","v":"五年一贯制"}]
[249,"2024102200252","李艳梅","女","大数据技术","新华三银河ICT产业学院","是",{"$f":"VLOOKUP(B250,[1]统招2022级!$B$1:$V$626,21,0)","v":"五年一贯制"}]
[250,"2024102200254","赵德松","男","大数据技术","新华三银河ICT产业学院","是",{"$f":"VLOOKUP(B251,[1]统招2022级!$B$1:$V$626,21,0)","v":"五年一贯制"}]